BEGIN:VCALENDAR
VERSION:2.0
PRODID:-//He Kai - ECPv6.15.20//NONSGML v1.0//EN
CALSCALE:GREGORIAN
METHOD:PUBLISH
X-ORIGINAL-URL:https://hekai.co.nz
X-WR-CALDESC:Events for He Kai
REFRESH-INTERVAL;VALUE=DURATION:PT1H
X-Robots-Tag:noindex
X-PUBLISHED-TTL:PT1H
BEGIN:VTIMEZONE
TZID:UTC
BEGIN:STANDARD
TZOFFSETFROM:+0000
TZOFFSETTO:+0000
TZNAME:UTC
DTSTART:20160101T000000
END:STANDARD
END:VTIMEZONE
BEGIN:VEVENT
DTSTART;VALUE=DATE:20171014
DTEND;VALUE=DATE:20171112
DTSTAMP:20260425T155740
CREATED:20171015T080901Z
LAST-MODIFIED:20171015T080901Z
UID:17441-1507939200-1510444799@hekai.co.nz
SUMMARY:Sustainable Whanau Challenge
DESCRIPTION:Are you looking for a way to make a difference? Need some inspiration to start making positive changes? The Sustainable Whanau Challenge is an online challenge that helps New Zealanders to make small changes in our everyday lives. \nIt is free and open to everyone and gives you the tools and inspiration to contribute to a healthy\, sustainable\, future – and have fun in the process. \nSign up to any of the challenges across Food\, Water\, Zero Waste\, Travel\, Energy\, Nature and Simply You. \n\nCheck out their website or FB page to learn more.
URL:https://hekai.co.nz/event/sustainable-whanau-challenge/
LOCATION:Online
END:VEVENT
BEGIN:VEVENT
DTSTART;TZID=UTC:20171101T100000
DTEND;TZID=UTC:20171101T170000
DTSTAMP:20260425T155740
CREATED:20170927T081641Z
LAST-MODIFIED:20170927T081641Z
UID:17408-1509530400-1509555600@hekai.co.nz
SUMMARY:Whānau Consultation Hui – Palmerston North
DESCRIPTION:Te Rau Matatini holding consultation for Māori whānau who have lived experience of caring for loved ones with mental illness.  Whānau are the silient workforce who take care of loved ones with mental illness and aim to find ways to give them (whānau) a voice.
URL:https://hekai.co.nz/event/whanau-consultation-hui-palmerston-north/
LOCATION:St Michael’s Anglican Church & Marae\, 70 Ellesmere Crescent\, Palmerston North\, Manawatu-Wanganui\, 4412\, New Zealand
END:VEVENT
END:VCALENDAR