BEGIN:VCALENDAR
VERSION:2.0
PRODID:-//He Kai - ECPv6.15.20//NONSGML v1.0//EN
CALSCALE:GREGORIAN
METHOD:PUBLISH
X-ORIGINAL-URL:https://hekai.co.nz
X-WR-CALDESC:Events for He Kai
REFRESH-INTERVAL;VALUE=DURATION:PT1H
X-Robots-Tag:noindex
X-PUBLISHED-TTL:PT1H
BEGIN:VTIMEZONE
TZID:Pacific/Auckland
BEGIN:STANDARD
TZOFFSETFROM:+1300
TZOFFSETTO:+1200
TZNAME:NZST
DTSTART:20170401T140000
END:STANDARD
BEGIN:DAYLIGHT
TZOFFSETFROM:+1200
TZOFFSETTO:+1300
TZNAME:NZDT
DTSTART:20170923T140000
END:DAYLIGHT
BEGIN:STANDARD
TZOFFSETFROM:+1300
TZOFFSETTO:+1200
TZNAME:NZST
DTSTART:20180331T140000
END:STANDARD
BEGIN:DAYLIGHT
TZOFFSETFROM:+1200
TZOFFSETTO:+1300
TZNAME:NZDT
DTSTART:20180929T140000
END:DAYLIGHT
BEGIN:STANDARD
TZOFFSETFROM:+1300
TZOFFSETTO:+1200
TZNAME:NZST
DTSTART:20190406T140000
END:STANDARD
BEGIN:DAYLIGHT
TZOFFSETFROM:+1200
TZOFFSETTO:+1300
TZNAME:NZDT
DTSTART:20190928T140000
END:DAYLIGHT
END:VTIMEZONE
BEGIN:VEVENT
DTSTART;VALUE=DATE:20180201
DTEND;VALUE=DATE:20180301
DTSTAMP:20260425T085753
CREATED:20180117T231335Z
LAST-MODIFIED:20180117T231335Z
UID:17945-1517443200-1519862399@hekai.co.nz
SUMMARY:Heart Health Awareness Month
DESCRIPTION:As a charity\, the Heart Foundation relies on the community’s support and generosity to help fund its lifesaving work in heart health research\, education and cardiac care. \nHeart Awareness Month is an ideal time for workplaces to run events to raise money for the Heart Foundation’s work\, and encourage their people to have their heart health checked. \nYour workplace can get involved in a fundraiser for the New Zealand Heart Foundation during its appeal week or at any time of the year. You could get involved with the Big Heart Appeal\, volunteer to be a street collector and/or put a donation box in your business. \nYou could also consider running a Go Red for Women event to promote heart health particularly to the women in your workplace. \nThe appeal week is also a great time to remind your people to take care of their heart health.
URL:https://hekai.co.nz/event/heart-health-awareness-month/
END:VEVENT
BEGIN:VEVENT
DTSTART;VALUE=DATE:20180201
DTEND;VALUE=DATE:20180301
DTSTAMP:20260425T085753
CREATED:20180117T231728Z
LAST-MODIFIED:20180117T231728Z
UID:17949-1517443200-1519862399@hekai.co.nz
SUMMARY:Aotearoa Bike Challenge Month
DESCRIPTION:To encourage more people to discover how easy and enjoyable riding a bike can be\, the New Zealand Transport Agency has partnered with Love to Ride to develop the Aotearoa Bike Challenge. \nThis is a new\, national bike initiative taking take place during the month of February 2017. \nThe new campaign aims to boost cycling all across the country\, with tailored guidance and tips\, a friendly workplace competition\, and lots of great prizes on offer\, it’s a great time to ride bikes in New Zealand. \nThe website’s Grow the Movement page has plenty of resources to help publicise your workplace’s event – scroll to the bottom of the page for some pretty funny gifs.
URL:https://hekai.co.nz/event/aotearoa-bike-challenge-month/
END:VEVENT
END:VCALENDAR