BEGIN:VCALENDAR
VERSION:2.0
PRODID:-//He Kai - ECPv6.15.20//NONSGML v1.0//EN
CALSCALE:GREGORIAN
METHOD:PUBLISH
X-ORIGINAL-URL:https://hekai.co.nz
X-WR-CALDESC:Events for He Kai
REFRESH-INTERVAL;VALUE=DURATION:PT1H
X-Robots-Tag:noindex
X-PUBLISHED-TTL:PT1H
BEGIN:VTIMEZONE
TZID:Pacific/Auckland
BEGIN:STANDARD
TZOFFSETFROM:+1300
TZOFFSETTO:+1200
TZNAME:NZST
DTSTART:20170401T140000
END:STANDARD
BEGIN:DAYLIGHT
TZOFFSETFROM:+1200
TZOFFSETTO:+1300
TZNAME:NZDT
DTSTART:20170923T140000
END:DAYLIGHT
BEGIN:STANDARD
TZOFFSETFROM:+1300
TZOFFSETTO:+1200
TZNAME:NZST
DTSTART:20180331T140000
END:STANDARD
BEGIN:DAYLIGHT
TZOFFSETFROM:+1200
TZOFFSETTO:+1300
TZNAME:NZDT
DTSTART:20180929T140000
END:DAYLIGHT
BEGIN:STANDARD
TZOFFSETFROM:+1300
TZOFFSETTO:+1200
TZNAME:NZST
DTSTART:20190406T140000
END:STANDARD
BEGIN:DAYLIGHT
TZOFFSETFROM:+1200
TZOFFSETTO:+1300
TZNAME:NZDT
DTSTART:20190928T140000
END:DAYLIGHT
END:VTIMEZONE
BEGIN:VEVENT
DTSTART;TZID=Pacific/Auckland:20180509T110000
DTEND;TZID=Pacific/Auckland:20180509T120000
DTSTAMP:20260425T053427
CREATED:20180507T211732Z
LAST-MODIFIED:20180625T033629Z
UID:18228-1525863600-1525867200@hekai.co.nz
SUMMARY:Toi Ako Webinar
DESCRIPTION:Weighing in on Weightism: Does a weight focused approach align with the Māori view of health?\nBecause of the association between body weight and many chronic and metabolic illnesses such as cardiovascular disease and diabetes\, weight and other weight or body fat-related measurements such as BMI (body mass index) or waist circumference are commonly used to screen and assess health risks. \nWeight loss is now linked with health\, happiness\, and will power\, while over-weight or obese is linked to ‘unhealthy’\, poor choices\, and a lack of will power. Our modern fascination for weight loss has led to stigma of those who are overweight or obese\, and considering Māori are among those with the highest prevalence of ‘overweight’ and ‘obesity’\, the line between ‘weight-ism’ and racism can become somewhat blurred. \nThere is a massive amount of research linking BMI\, weight\, and waist circumference\, to diabetes\, heart disease and other aspects of poor health\, so aren’t we justified in waging a ‘war on obesity’? Although this association is well established\, whether increased weight (or even fat) is actually the ‘cause’ of these lifestyle illnesses is less clear. What’s more\, many studies have shown that weight loss is extremely difficult and nearly impossible for some people\, while others have shown that healthy habits like regular physical activity can improve health even when no weight is lost. \nNevertheless\, the commercialisation of weight loss continues to drive a news feed full of before and after pictures\, and new weight loss product after new weight loss product. \nFor Māori\, who have highlighted holistic views of health relating to whenua\, whakapapa\, wairua\, hinengaro and whānau (as well as tinana)\, a weight focused approach to health or illness does not necessarily align with ‘our’ way of viewing health. Accordingly\, there has been a swell of initiatives drawing on traditional knowledge and cultural values to drive health promotion in Aotearoa. This is particularly apparent within various physical activity initiatives where the connection to whakapapa\, and traditional knowledge and values\, have become the driver for lifestyle change. \nYet\, despite these movements\, the outcome measures used to assess such initiatives almost always default to some weight-related measure\, whether weight itself or BMI. Decolonising health initiatives and the outcome measures which shape them may be necessary to achieving health equity and ensuring a ‘war on obesity’ isn’t just another justification for a ‘war’ on Māori. \nAbout the presenter\nDr Isaac Warbrick\nSenior Research Fellow @AUT University\nDr Isaac Warbrick (Ngāti Te Ata\, Te Arawa\, Ngā Puhi) is an exercise physiologist\, Senior Research Fellow and Director of Taupua Waiora Centre for Māori Health Research. His most recent publications have questioned whether ‘weight’ and ‘weight loss’ are appropriate ‘health’ measures for Māori\, suggesting that outcome measures should better reflect cultural values. \nView Here
URL:https://hekai.co.nz/event/toi-ako-webinar-3/
LOCATION:Online
END:VEVENT
END:VCALENDAR