BEGIN:VCALENDAR
VERSION:2.0
PRODID:-//He Kai - ECPv6.15.20//NONSGML v1.0//EN
CALSCALE:GREGORIAN
METHOD:PUBLISH
X-ORIGINAL-URL:https://hekai.co.nz
X-WR-CALDESC:Events for He Kai
REFRESH-INTERVAL;VALUE=DURATION:PT1H
X-Robots-Tag:noindex
X-PUBLISHED-TTL:PT1H
BEGIN:VTIMEZONE
TZID:Pacific/Auckland
BEGIN:STANDARD
TZOFFSETFROM:+1300
TZOFFSETTO:+1200
TZNAME:NZST
DTSTART:20170401T140000
END:STANDARD
BEGIN:DAYLIGHT
TZOFFSETFROM:+1200
TZOFFSETTO:+1300
TZNAME:NZDT
DTSTART:20170923T140000
END:DAYLIGHT
BEGIN:STANDARD
TZOFFSETFROM:+1300
TZOFFSETTO:+1200
TZNAME:NZST
DTSTART:20180331T140000
END:STANDARD
BEGIN:DAYLIGHT
TZOFFSETFROM:+1200
TZOFFSETTO:+1300
TZNAME:NZDT
DTSTART:20180929T140000
END:DAYLIGHT
BEGIN:STANDARD
TZOFFSETFROM:+1300
TZOFFSETTO:+1200
TZNAME:NZST
DTSTART:20190406T140000
END:STANDARD
BEGIN:DAYLIGHT
TZOFFSETFROM:+1200
TZOFFSETTO:+1300
TZNAME:NZDT
DTSTART:20190928T140000
END:DAYLIGHT
END:VTIMEZONE
BEGIN:VEVENT
DTSTART;VALUE=DATE:20180519
DTEND;VALUE=DATE:20180528
DTSTAMP:20260425T053341
CREATED:20180513T221024Z
LAST-MODIFIED:20180513T221108Z
UID:18302-1526688000-1527465599@hekai.co.nz
SUMMARY:Youth Week 2018
DESCRIPTION:“Ahakoa te aha\, kei a koe te tikanga: Be who you want to be.”\n\nYou are invited to play off this theme\, perhaps by using the longer theme “Be who you want to be\, not what you want to see” or even the symposium favourite “Be who you want to be\, not what others want to see”. \nYouth Week has been celebrated in Aotearoa/New Zealand since the late 1990s. The nine-day celebration has been coordinated by Ara Taiohi since 2010 with the support of the Ministry of Youth Development and various corporate sponsors such as Health Promotion Agency\, WelTec\, Inspiring Stories Trust and Vodafone. \nCheck out local events here.
URL:https://hekai.co.nz/event/youth-week-2018/
END:VEVENT
END:VCALENDAR