BEGIN:VCALENDAR
VERSION:2.0
PRODID:-//He Kai - ECPv6.15.20//NONSGML v1.0//EN
CALSCALE:GREGORIAN
METHOD:PUBLISH
X-ORIGINAL-URL:https://hekai.co.nz
X-WR-CALDESC:Events for He Kai
REFRESH-INTERVAL;VALUE=DURATION:PT1H
X-Robots-Tag:noindex
X-PUBLISHED-TTL:PT1H
BEGIN:VTIMEZONE
TZID:Pacific/Auckland
BEGIN:STANDARD
TZOFFSETFROM:+1300
TZOFFSETTO:+1200
TZNAME:NZST
DTSTART:20170401T140000
END:STANDARD
BEGIN:DAYLIGHT
TZOFFSETFROM:+1200
TZOFFSETTO:+1300
TZNAME:NZDT
DTSTART:20170923T140000
END:DAYLIGHT
BEGIN:STANDARD
TZOFFSETFROM:+1300
TZOFFSETTO:+1200
TZNAME:NZST
DTSTART:20180331T140000
END:STANDARD
BEGIN:DAYLIGHT
TZOFFSETFROM:+1200
TZOFFSETTO:+1300
TZNAME:NZDT
DTSTART:20180929T140000
END:DAYLIGHT
BEGIN:STANDARD
TZOFFSETFROM:+1300
TZOFFSETTO:+1200
TZNAME:NZST
DTSTART:20190406T140000
END:STANDARD
BEGIN:DAYLIGHT
TZOFFSETFROM:+1200
TZOFFSETTO:+1300
TZNAME:NZDT
DTSTART:20190928T140000
END:DAYLIGHT
END:VTIMEZONE
BEGIN:VEVENT
DTSTART;VALUE=DATE:20180531
DTEND;VALUE=DATE:20180601
DTSTAMP:20260425T040507
CREATED:20180513T221424Z
LAST-MODIFIED:20180513T221754Z
UID:18305-1527724800-1527811199@hekai.co.nz
SUMMARY:World Smokefree Day 2018
DESCRIPTION:World Smokefree Day is on 31 May and is about celebrating and working towards smokefree/auahi kore lives for New Zealanders. \nInternationally\, World Smokefree Day is known as World No Tobacco Day\, and is celebrated annually on 31 May. \nWorld Smokefree Day is celebrated and delivered at a local level with a theme being applied to current initiatives and priorities. Regional smokefree coalitions provide a collaborative approach and touchpoints for anyone wanting to get involved. \nThe objectives of World Smokefree Day (WSFD) in New Zealand are: \n\nraising awareness and contributing to the achievement of the Smokefree 2025 goal\nenabling better collaboration\, planning and coordination of work within regions and across the country\nraising awareness of the smokefree kaupapa with the underlying objectives of reducing exposure to second-hand smoke and increasing quit attempts\nenabling continuity and consistency of messaging and creative across the country\nbuilding on and complementing current work in tobacco control.\n\n\n \n\nAbout the theme\nThe theme for World Smokefree Day 2018 is ‘it’s about whānau’ with a focus on celebrating New Zealand’s smokefree achievements. \nThe majority of New Zealanders are smokefree and want smokefree environments. Having smokefree whānau\, homes\, workplaces and public spaces is worth celebrating! Tihei manawa ora! Sneeze\, the breath of life!
URL:https://hekai.co.nz/event/world-smokefree-day-2018/
END:VEVENT
END:VCALENDAR