BEGIN:VCALENDAR
VERSION:2.0
PRODID:-//He Kai - ECPv6.15.20//NONSGML v1.0//EN
CALSCALE:GREGORIAN
METHOD:PUBLISH
X-WR-CALNAME:He Kai
X-ORIGINAL-URL:https://hekai.co.nz
X-WR-CALDESC:Events for He Kai
REFRESH-INTERVAL;VALUE=DURATION:PT1H
X-Robots-Tag:noindex
X-PUBLISHED-TTL:PT1H
BEGIN:VTIMEZONE
TZID:Pacific/Auckland
BEGIN:STANDARD
TZOFFSETFROM:+1300
TZOFFSETTO:+1200
TZNAME:NZST
DTSTART:20170401T140000
END:STANDARD
BEGIN:DAYLIGHT
TZOFFSETFROM:+1200
TZOFFSETTO:+1300
TZNAME:NZDT
DTSTART:20170923T140000
END:DAYLIGHT
BEGIN:STANDARD
TZOFFSETFROM:+1300
TZOFFSETTO:+1200
TZNAME:NZST
DTSTART:20180331T140000
END:STANDARD
BEGIN:DAYLIGHT
TZOFFSETFROM:+1200
TZOFFSETTO:+1300
TZNAME:NZDT
DTSTART:20180929T140000
END:DAYLIGHT
BEGIN:STANDARD
TZOFFSETFROM:+1300
TZOFFSETTO:+1200
TZNAME:NZST
DTSTART:20190406T140000
END:STANDARD
BEGIN:DAYLIGHT
TZOFFSETFROM:+1200
TZOFFSETTO:+1300
TZNAME:NZDT
DTSTART:20190928T140000
END:DAYLIGHT
END:VTIMEZONE
BEGIN:VEVENT
DTSTART;VALUE=DATE:20180601
DTEND;VALUE=DATE:20180701
DTSTAMP:20260425T034708
CREATED:20180513T222550Z
LAST-MODIFIED:20180513T222550Z
UID:18310-1527811200-1530403199@hekai.co.nz
SUMMARY:Men's Health Month
DESCRIPTION:Men’s Health Month is a great time to have a think about our health and how important it is\, to start talking about it with our mates\, families and doctors\, and to do something for ourselves to be just a little bit healthier. The theme of Men’s Health Month NZ is #MenStartTalking. \nMEN’S HEALTH CHECKS\nThe Men’s Health website has a fantastic tool where you can type in your age or move the dial to find out what you should be getting checked up on! Check it out here.
URL:https://hekai.co.nz/event/mens-health-month/
END:VEVENT
BEGIN:VEVENT
DTSTART;TZID=Pacific/Auckland:20180613T110000
DTEND;TZID=Pacific/Auckland:20180613T120000
DTSTAMP:20260425T034708
CREATED:20180606T002212Z
LAST-MODIFIED:20180606T002353Z
UID:18349-1528887600-1528891200@hekai.co.nz
SUMMARY:Toi Ako: The Ola Ora Journey: Navigating Digital Health and Wellbeing Platforms and Mātauranga Māori
DESCRIPTION:The Ol@-Or@ research project\, initially called the Welltext project\, aims to create an intervention tool to reduce the risk of heart disease\, obesity and diabetes in Māori and Pacific Islanders. \nFunded by the Healthier Lives He Oranga Hauora National Science Challenge\, the study works in partnership with Māori and Pasifika communities (with the target age group of 18 years or older) to create and design a mobile health lifestyle support programme (mHealth Tool). \nIn this panel webinar\, the team looks at the development and exploration of the Ol@/Or@ mobile health tool. Join them as they share the lessons learned and their application within this research project and extend our collective understanding of the contribution that mātauranga Māori can make to contemporary nutrition and physical activity movements. \nThe panel will take participants through the Mahi Auaha design process and stimulate the creative platforms that are possible through co-design approaches. The navigation of one’s hauora journey is never a one size fits all approach. Through their involvement in this challenge they offer insights around the application of Mahi Auaha (Co-Design) which enables health providers and community champions to gain a better understanding of community health needs and service delivery improvements for the user. \nFollow the journey into this emergent space and learn about the strengths and challenges of utilising digital platforms to improve health and wellbeing. Digital platforms may offer an equal and reciprocal relationship between professionals and the core economy (family\, neighbourhood and community)\, shifting the balance of power\, responsibility and resources to a more mutually beneficial situation across a range of settings (Sanders & Stappers\, 2008). \nFrom the creation of a new service to improving existing one’s\, Mahi Auaha\, underpinned by kaupapa Māori\, has an exciting and innovative role in shaping approaches to health and wellbeing in Aotearoa. \nRegister Here
URL:https://hekai.co.nz/event/toi-ako-the-ola-ora-journey-navigating-digital-health-and-wellbeing-platforms-and-matauranga-maori/
LOCATION:Online
END:VEVENT
END:VCALENDAR