BEGIN:VCALENDAR
VERSION:2.0
PRODID:-//He Kai - ECPv6.15.20//NONSGML v1.0//EN
CALSCALE:GREGORIAN
METHOD:PUBLISH
X-WR-CALNAME:He Kai
X-ORIGINAL-URL:https://hekai.co.nz
X-WR-CALDESC:Events for He Kai
REFRESH-INTERVAL;VALUE=DURATION:PT1H
X-Robots-Tag:noindex
X-PUBLISHED-TTL:PT1H
BEGIN:VTIMEZONE
TZID:Pacific/Auckland
BEGIN:STANDARD
TZOFFSETFROM:+1300
TZOFFSETTO:+1200
TZNAME:NZST
DTSTART:20170401T140000
END:STANDARD
BEGIN:DAYLIGHT
TZOFFSETFROM:+1200
TZOFFSETTO:+1300
TZNAME:NZDT
DTSTART:20170923T140000
END:DAYLIGHT
BEGIN:STANDARD
TZOFFSETFROM:+1300
TZOFFSETTO:+1200
TZNAME:NZST
DTSTART:20180331T140000
END:STANDARD
BEGIN:DAYLIGHT
TZOFFSETFROM:+1200
TZOFFSETTO:+1300
TZNAME:NZDT
DTSTART:20180929T140000
END:DAYLIGHT
BEGIN:STANDARD
TZOFFSETFROM:+1300
TZOFFSETTO:+1200
TZNAME:NZST
DTSTART:20190406T140000
END:STANDARD
BEGIN:DAYLIGHT
TZOFFSETFROM:+1200
TZOFFSETTO:+1300
TZNAME:NZDT
DTSTART:20190928T140000
END:DAYLIGHT
END:VTIMEZONE
BEGIN:VEVENT
DTSTART;VALUE=DATE:20180901
DTEND;VALUE=DATE:20181001
DTSTAMP:20260424T232200
CREATED:20180820T051920Z
LAST-MODIFIED:20180820T051920Z
UID:18557-1535760000-1538351999@hekai.co.nz
SUMMARY:Breathe Better September NZ 2018
DESCRIPTION:What is Breathe Better September?  \nBreathe Better September is a national campaign to raise awareness of respiratory conditions in New Zealand. The campaign encourages all Kiwis to show their support for better breathing and healthy lungs and to start thinking about how they can improve their respiratory health.  \nWhat is a respiratory condition?  \n​Respiratory disease includes asthma\, bronchiectasis\, bronchiolitis\, pneumonia\, chronic obstructive pulmonary disease (COPD)\, lung cancer and obstructive sleep apnoea. \nHow many people does it affect?  \nOver 700\,000 Kiwis have a respiratory condition\, it’s the third leading cause of death and costs the country $6 billion each year. In New Zealand over 521\,000 people take medication for asthma\, making it the most common respiratory condition in the country. \nBreathe Better September will take place from 1-30 September 2018 and is run by\n​the Asthma and Respiratory Foundation NZ. 
URL:https://hekai.co.nz/event/breathe-better-september-nz-2018/
END:VEVENT
END:VCALENDAR