BEGIN:VCALENDAR
VERSION:2.0
PRODID:-//He Kai - ECPv6.15.20//NONSGML v1.0//EN
CALSCALE:GREGORIAN
METHOD:PUBLISH
X-ORIGINAL-URL:https://hekai.co.nz
X-WR-CALDESC:Events for He Kai
REFRESH-INTERVAL;VALUE=DURATION:PT1H
X-Robots-Tag:noindex
X-PUBLISHED-TTL:PT1H
BEGIN:VTIMEZONE
TZID:Pacific/Auckland
BEGIN:STANDARD
TZOFFSETFROM:+1300
TZOFFSETTO:+1200
TZNAME:NZST
DTSTART:20170401T140000
END:STANDARD
BEGIN:DAYLIGHT
TZOFFSETFROM:+1200
TZOFFSETTO:+1300
TZNAME:NZDT
DTSTART:20170923T140000
END:DAYLIGHT
BEGIN:STANDARD
TZOFFSETFROM:+1300
TZOFFSETTO:+1200
TZNAME:NZST
DTSTART:20180331T140000
END:STANDARD
BEGIN:DAYLIGHT
TZOFFSETFROM:+1200
TZOFFSETTO:+1300
TZNAME:NZDT
DTSTART:20180929T140000
END:DAYLIGHT
BEGIN:STANDARD
TZOFFSETFROM:+1300
TZOFFSETTO:+1200
TZNAME:NZST
DTSTART:20190406T140000
END:STANDARD
BEGIN:DAYLIGHT
TZOFFSETFROM:+1200
TZOFFSETTO:+1300
TZNAME:NZDT
DTSTART:20190928T140000
END:DAYLIGHT
END:VTIMEZONE
BEGIN:VEVENT
DTSTART;VALUE=DATE:20181001
DTEND;VALUE=DATE:20181101
DTSTAMP:20260424T215209
CREATED:20181014T221917Z
LAST-MODIFIED:20181014T221917Z
UID:18706-1538352000-1541030399@hekai.co.nz
SUMMARY:Breast Cancer Awareness Month
DESCRIPTION:October is Breast Cancer Awareness Month\, and what better way to show your support for the thousands of women each year who are diagnosed with breast cancer\, than by going PINK! \nHundreds of workplaces\, schools\, community groups and people around New Zealand help raise much needed funds for breast cancer education\, research and support each October\, and would love for you to join them this year.
URL:https://hekai.co.nz/event/breast-cancer-awareness-month/
END:VEVENT
BEGIN:VEVENT
DTSTART;TZID=Pacific/Auckland:20181018T140000
DTEND;TZID=Pacific/Auckland:20181018T163000
DTSTAMP:20260424T215209
CREATED:20181014T222416Z
LAST-MODIFIED:20181014T222416Z
UID:18710-1539871200-1539880200@hekai.co.nz
SUMMARY:Ngā Mata o te Marama Workshop
DESCRIPTION:Hosted by Tuhi\, this is an introduction workshop learning about the phases of the maramataka (Māori lunar cycle)\, the significance of this traditional mātauranga (knowledge) and with practical ideas and activities your everyday life with your whānau and in your mahi with a focus on people and our emotions. \nThe workshop is facilitated by Mihi Tibble (Ngāti Porou\, Te Whānau ā Apanui\, Te Arawa\, Ngāti Awa) and Geneva Harrison (Ngāti Kahu\, Te Rarawa\, Te Aupouri). A number of resources are provided and with the workbook being sent to you on completion of registration. \nThe workshop will cover: \n– our journey and inspiration\,\n– provide an overview of maramataka and the importance of observations\n– a walk through the key phases of the maramataka\n– the related atua for certain phases and\n– interactive group sessions \nYou will need to bring a pen and colouring pencils! \nMauri Ora
URL:https://hekai.co.nz/event/nga-mata-o-te-marama-workshop/
LOCATION:Ranui Community Centre\, 474 Swanson Road\, Auckland\, New Zealand
END:VEVENT
END:VCALENDAR