BEGIN:VCALENDAR
VERSION:2.0
PRODID:-//He Kai - ECPv6.15.20//NONSGML v1.0//EN
CALSCALE:GREGORIAN
METHOD:PUBLISH
X-ORIGINAL-URL:https://hekai.co.nz
X-WR-CALDESC:Events for He Kai
REFRESH-INTERVAL;VALUE=DURATION:PT1H
X-Robots-Tag:noindex
X-PUBLISHED-TTL:PT1H
BEGIN:VTIMEZONE
TZID:Pacific/Auckland
BEGIN:STANDARD
TZOFFSETFROM:+1300
TZOFFSETTO:+1200
TZNAME:NZST
DTSTART:20170401T140000
END:STANDARD
BEGIN:DAYLIGHT
TZOFFSETFROM:+1200
TZOFFSETTO:+1300
TZNAME:NZDT
DTSTART:20170923T140000
END:DAYLIGHT
BEGIN:STANDARD
TZOFFSETFROM:+1300
TZOFFSETTO:+1200
TZNAME:NZST
DTSTART:20180331T140000
END:STANDARD
BEGIN:DAYLIGHT
TZOFFSETFROM:+1200
TZOFFSETTO:+1300
TZNAME:NZDT
DTSTART:20180929T140000
END:DAYLIGHT
BEGIN:STANDARD
TZOFFSETFROM:+1300
TZOFFSETTO:+1200
TZNAME:NZST
DTSTART:20190406T140000
END:STANDARD
BEGIN:DAYLIGHT
TZOFFSETFROM:+1200
TZOFFSETTO:+1300
TZNAME:NZDT
DTSTART:20190928T140000
END:DAYLIGHT
END:VTIMEZONE
BEGIN:VEVENT
DTSTART;VALUE=DATE:20181101
DTEND;VALUE=DATE:20181201
DTSTAMP:20260424T203354
CREATED:20181014T221658Z
LAST-MODIFIED:20181014T221658Z
UID:18702-1541030400-1543622399@hekai.co.nz
SUMMARY:The Auckland Walk Challenge
DESCRIPTION:When and where\nDate: 1 to 30 November 2018.\nLocation: Auckland-wide. \nThe Auckland Walk Challenge is back by popular demand – this time for the month of November. \nStart summer feeling great by joining this year’s challenge. This free\, month-long event runs from 1-30 November and aims at getting more people walking in Auckland. \nComplete weekly challenges and be in to win a great range of prizes throughout the month as you ‘virtually’ walk the length of New Zealand. \nJust walk for at least 30 minutes a day – to work\, to the bus stop\, to the local shops – and track your distance online. It’s fun\, it’s FREE\, it’s easy and good for you. Track your steps through the simple online platform or sync your activity tracker device. \nRegistration is now open\, so why not form a team with colleagues or friends and family and take to two legs this Spring. \nThere are lots of great prizes\, including Blunt umbrellas\, ferry passes to some of our fabulous Hauraki Gulf Islands\, organic food hampers and a double pass for the Auckland Bridge Climb. \nSign up for the Challenge now: \nFind out more and register for The Auckland Walk Challenge \nRegister by 27 October and be entered into the draw to win a Fitbit Charge 2.
URL:https://hekai.co.nz/event/the-auckland-walk-challenge/
END:VEVENT
END:VCALENDAR