BEGIN:VCALENDAR
VERSION:2.0
PRODID:-//He Kai - ECPv6.15.20//NONSGML v1.0//EN
CALSCALE:GREGORIAN
METHOD:PUBLISH
X-ORIGINAL-URL:https://hekai.co.nz
X-WR-CALDESC:Events for He Kai
REFRESH-INTERVAL;VALUE=DURATION:PT1H
X-Robots-Tag:noindex
X-PUBLISHED-TTL:PT1H
BEGIN:VTIMEZONE
TZID:Pacific/Auckland
BEGIN:STANDARD
TZOFFSETFROM:+1300
TZOFFSETTO:+1200
TZNAME:NZST
DTSTART:20180331T140000
END:STANDARD
BEGIN:DAYLIGHT
TZOFFSETFROM:+1200
TZOFFSETTO:+1300
TZNAME:NZDT
DTSTART:20180929T140000
END:DAYLIGHT
BEGIN:STANDARD
TZOFFSETFROM:+1300
TZOFFSETTO:+1200
TZNAME:NZST
DTSTART:20190406T140000
END:STANDARD
BEGIN:DAYLIGHT
TZOFFSETFROM:+1200
TZOFFSETTO:+1300
TZNAME:NZDT
DTSTART:20190928T140000
END:DAYLIGHT
BEGIN:STANDARD
TZOFFSETFROM:+1300
TZOFFSETTO:+1200
TZNAME:NZST
DTSTART:20200404T140000
END:STANDARD
BEGIN:DAYLIGHT
TZOFFSETFROM:+1200
TZOFFSETTO:+1300
TZNAME:NZDT
DTSTART:20200926T140000
END:DAYLIGHT
END:VTIMEZONE
BEGIN:VEVENT
DTSTART;VALUE=DATE:20190201
DTEND;VALUE=DATE:20190301
DTSTAMP:20260424T144137
CREATED:20190129T015115Z
LAST-MODIFIED:20190129T015115Z
UID:19083-1548979200-1551398399@hekai.co.nz
SUMMARY:Aotearoa Bike Challenge
DESCRIPTION:A fun\, free challenge to encourage you and your colleagues to experience first hand joys and benefits of riding a bike. \nIt’s all about participation – which workplaces can get the most people to ride a bike for just 10 minutes or more? Organisations across the country will compete against each other to see who can get the most staff to ride a bike during the Challenge (1-28 Feb). \nIt’s not about who can ride the most kilometres\, but who can encourage the most people to give bicycling a try. The teams which get the highest percentage of their staff riding for their size category will win. \nHOW TO TAKE PART \nFollow these four steps: \n\nRegister on this website\, it’s free. Register here\nRide a bike anywhere\, anytime for at least 10 minutes during the Challenge (1-28 February)\nRecord your ride on this site and tell your friends and coworkers about the Challenge.\nReward yourself and your friends by winning prizes!\n\nGOT MORE QUESTIONS? \nReview  Frequently Asked Questions
URL:https://hekai.co.nz/event/aotearoa-bike-challenge/
END:VEVENT
END:VCALENDAR