BEGIN:VCALENDAR
VERSION:2.0
PRODID:-//He Kai - ECPv6.15.20//NONSGML v1.0//EN
CALSCALE:GREGORIAN
METHOD:PUBLISH
X-WR-CALNAME:He Kai
X-ORIGINAL-URL:https://hekai.co.nz
X-WR-CALDESC:Events for He Kai
REFRESH-INTERVAL;VALUE=DURATION:PT1H
X-Robots-Tag:noindex
X-PUBLISHED-TTL:PT1H
BEGIN:VTIMEZONE
TZID:Pacific/Auckland
BEGIN:STANDARD
TZOFFSETFROM:+1300
TZOFFSETTO:+1200
TZNAME:NZST
DTSTART:20180331T140000
END:STANDARD
BEGIN:DAYLIGHT
TZOFFSETFROM:+1200
TZOFFSETTO:+1300
TZNAME:NZDT
DTSTART:20180929T140000
END:DAYLIGHT
BEGIN:STANDARD
TZOFFSETFROM:+1300
TZOFFSETTO:+1200
TZNAME:NZST
DTSTART:20190406T140000
END:STANDARD
BEGIN:DAYLIGHT
TZOFFSETFROM:+1200
TZOFFSETTO:+1300
TZNAME:NZDT
DTSTART:20190928T140000
END:DAYLIGHT
BEGIN:STANDARD
TZOFFSETFROM:+1300
TZOFFSETTO:+1200
TZNAME:NZST
DTSTART:20200404T140000
END:STANDARD
BEGIN:DAYLIGHT
TZOFFSETFROM:+1200
TZOFFSETTO:+1300
TZNAME:NZDT
DTSTART:20200926T140000
END:DAYLIGHT
END:VTIMEZONE
BEGIN:VEVENT
DTSTART;TZID=Pacific/Auckland:20190329T090000
DTEND;TZID=Pacific/Auckland:20190329T150000
DTSTAMP:20260424T143725
CREATED:20190324T233243Z
LAST-MODIFIED:20190324T233416Z
UID:19209-1553850000-1553871600@hekai.co.nz
SUMMARY:Pataka Oranga
DESCRIPTION:Learn the fundamentals of co design principles that enable tangible outcomes towards food security & food sovereignty. \nKai (food) is not just nourishment\, it is a livelihood embedded in values\, tradition\, and social and spiritual wellbeing. \nThis workshop will share knowledge on food security and food sovereignty\, exploring conversations and design on the availability of safe kai in a socially acceptable way and the effects of global food companies on our wellbeing. \nWe will explore the role of pataka as a metaphoric codesign tool to guide conversations and design with the aim of participants having an awareness of how to address community needs to achieve tangible and positive outcomes\, using mātauranga systems of kai including maramataka\, karakia and whakatauki. \nParticipants will leave with a heightened awareness of the importance of food security and food sovereignty within the Kahungunu region and how to design an authentic kaupapa using co design approach. \nRegister Here
URL:https://hekai.co.nz/event/pataka-oranga/
LOCATION:821 Orchard Road\, Hastings\, 821 Orchard Road\, Hastings\, New Zealand
END:VEVENT
END:VCALENDAR