BEGIN:VCALENDAR
VERSION:2.0
PRODID:-//He Kai - ECPv6.15.20//NONSGML v1.0//EN
CALSCALE:GREGORIAN
METHOD:PUBLISH
X-WR-CALNAME:He Kai
X-ORIGINAL-URL:https://hekai.co.nz
X-WR-CALDESC:Events for He Kai
REFRESH-INTERVAL;VALUE=DURATION:PT1H
X-Robots-Tag:noindex
X-PUBLISHED-TTL:PT1H
BEGIN:VTIMEZONE
TZID:Pacific/Auckland
BEGIN:STANDARD
TZOFFSETFROM:+1300
TZOFFSETTO:+1200
TZNAME:NZST
DTSTART:20180331T140000
END:STANDARD
BEGIN:DAYLIGHT
TZOFFSETFROM:+1200
TZOFFSETTO:+1300
TZNAME:NZDT
DTSTART:20180929T140000
END:DAYLIGHT
BEGIN:STANDARD
TZOFFSETFROM:+1300
TZOFFSETTO:+1200
TZNAME:NZST
DTSTART:20190406T140000
END:STANDARD
BEGIN:DAYLIGHT
TZOFFSETFROM:+1200
TZOFFSETTO:+1300
TZNAME:NZDT
DTSTART:20190928T140000
END:DAYLIGHT
BEGIN:STANDARD
TZOFFSETFROM:+1300
TZOFFSETTO:+1200
TZNAME:NZST
DTSTART:20200404T140000
END:STANDARD
BEGIN:DAYLIGHT
TZOFFSETFROM:+1200
TZOFFSETTO:+1300
TZNAME:NZDT
DTSTART:20200926T140000
END:DAYLIGHT
END:VTIMEZONE
BEGIN:VEVENT
DTSTART;VALUE=DATE:20190610
DTEND;VALUE=DATE:20190617
DTSTAMP:20260424T093639
CREATED:20190604T000101Z
LAST-MODIFIED:20190604T000101Z
UID:19307-1560124800-1560729599@hekai.co.nz
SUMMARY:Men's Health Week 2019
DESCRIPTION:The focus for  Mens Health Week 2019 will be the impact of inequality and deprivation on men’s health – Mens Health Forum will be releasing reports and materials on the issue nearer the time. \nIf you’d like to help support the week – and help Mens Health Forum make it bigger and better\, please donate now towards the cost.  They’re keen to develop more materials and do more to raise awareness of the week and donations towards the week really help with this. \nFree materials from previous weeks are available now from the Men’s Health Forum online shop.
URL:https://hekai.co.nz/event/mens-health-week-2019/
END:VEVENT
END:VCALENDAR