BEGIN:VCALENDAR
VERSION:2.0
PRODID:-//He Kai - ECPv6.15.20//NONSGML v1.0//EN
CALSCALE:GREGORIAN
METHOD:PUBLISH
X-ORIGINAL-URL:https://hekai.co.nz
X-WR-CALDESC:Events for He Kai
REFRESH-INTERVAL;VALUE=DURATION:PT1H
X-Robots-Tag:noindex
X-PUBLISHED-TTL:PT1H
BEGIN:VTIMEZONE
TZID:Pacific/Auckland
BEGIN:STANDARD
TZOFFSETFROM:+1300
TZOFFSETTO:+1200
TZNAME:NZST
DTSTART:20180331T140000
END:STANDARD
BEGIN:DAYLIGHT
TZOFFSETFROM:+1200
TZOFFSETTO:+1300
TZNAME:NZDT
DTSTART:20180929T140000
END:DAYLIGHT
BEGIN:STANDARD
TZOFFSETFROM:+1300
TZOFFSETTO:+1200
TZNAME:NZST
DTSTART:20190406T140000
END:STANDARD
BEGIN:DAYLIGHT
TZOFFSETFROM:+1200
TZOFFSETTO:+1300
TZNAME:NZDT
DTSTART:20190928T140000
END:DAYLIGHT
BEGIN:STANDARD
TZOFFSETFROM:+1300
TZOFFSETTO:+1200
TZNAME:NZST
DTSTART:20200404T140000
END:STANDARD
BEGIN:DAYLIGHT
TZOFFSETFROM:+1200
TZOFFSETTO:+1300
TZNAME:NZDT
DTSTART:20200926T140000
END:DAYLIGHT
END:VTIMEZONE
BEGIN:VEVENT
DTSTART;TZID=Pacific/Auckland:20190726T103000
DTEND;TZID=Pacific/Auckland:20190726T113000
DTSTAMP:20260424T080126
CREATED:20190721T194602Z
LAST-MODIFIED:20190721T194603Z
UID:19361-1564137000-1564140600@hekai.co.nz
SUMMARY:Toi Ako Webinar: Focus on kai: What does a Low Carb High Fat diet have to offer? With Dr Lily Fraser
DESCRIPTION:In this hour long free webinar we will be joined by Dr Lily Fraser\, who will discuss the application of Low Carbohydrate High Fat (LCHF) nutrition at Turuki Healthcare in Mangere\, Auckland. With a focus on Māori and Pacific food and making nutrition changes on a low income budget\, Dr Fraser will cover her personal journey since following a Low Carb High Fat diet since 2014 and how she now supports her patients to make nutrition changes for weight loss\, diabetes control and many other health benefits.
URL:https://hekai.co.nz/event/toi-ako-webinar-focus-on-kai-what-does-a-low-carb-high-fat-diet-have-to-offer-with-dr-lily-fraser/
LOCATION:Online
END:VEVENT
END:VCALENDAR