BEGIN:VCALENDAR
VERSION:2.0
PRODID:-//He Kai - ECPv6.15.20//NONSGML v1.0//EN
CALSCALE:GREGORIAN
METHOD:PUBLISH
X-ORIGINAL-URL:https://hekai.co.nz
X-WR-CALDESC:Events for He Kai
REFRESH-INTERVAL;VALUE=DURATION:PT1H
X-Robots-Tag:noindex
X-PUBLISHED-TTL:PT1H
BEGIN:VTIMEZONE
TZID:Pacific/Auckland
BEGIN:STANDARD
TZOFFSETFROM:+1300
TZOFFSETTO:+1200
TZNAME:NZST
DTSTART:20180331T140000
END:STANDARD
BEGIN:DAYLIGHT
TZOFFSETFROM:+1200
TZOFFSETTO:+1300
TZNAME:NZDT
DTSTART:20180929T140000
END:DAYLIGHT
BEGIN:STANDARD
TZOFFSETFROM:+1300
TZOFFSETTO:+1200
TZNAME:NZST
DTSTART:20190406T140000
END:STANDARD
BEGIN:DAYLIGHT
TZOFFSETFROM:+1200
TZOFFSETTO:+1300
TZNAME:NZDT
DTSTART:20190928T140000
END:DAYLIGHT
BEGIN:STANDARD
TZOFFSETFROM:+1300
TZOFFSETTO:+1200
TZNAME:NZST
DTSTART:20200404T140000
END:STANDARD
BEGIN:DAYLIGHT
TZOFFSETFROM:+1200
TZOFFSETTO:+1300
TZNAME:NZDT
DTSTART:20200926T140000
END:DAYLIGHT
END:VTIMEZONE
BEGIN:VEVENT
DTSTART;TZID=Pacific/Auckland:20191023T100000
DTEND;TZID=Pacific/Auckland:20191023T160000
DTSTAMP:20260424T030135
CREATED:20190908T224227Z
LAST-MODIFIED:20191022T005208Z
UID:19439-1571824800-1571846400@hekai.co.nz
SUMMARY:Toi Ako Wānanga: Māori solutions to increase participation in physical activity and sport.
DESCRIPTION:A one day wānanga about Maori solutions to increase participation in physical activity and sport.\n\n\n\n\n\n\nAbout this Event\n\n\nThis one day Toi Ako Wānanga will explore Māori solutions to increase participation in physical activity and sport. The framework of Te Pae Mahutonga will help guide the structure for the day which will consist of a combination of keynote presentations\, workshop and a panel discussion. \nParticipants will have the opportunity to examine enablers and barriers to participation\, and to workshop solutions to increasing Māori participation in sport and physical activity from a te ao Māori perspective. Iwi led examples as well as the role of reo Māori in sports will be looked into for improving whanau ora outcomes. \nThis event precedes Ngā Pūmanawa ki Pūrehuroa: Māori High Performance Symposium which will be held on 24 October 2019 by Te Pūtahi-a-Toi at Massey University in Palmerston North. These two events complement the kaupapa by looking at different aspects of Māori in sport sport. Email L.Rowe@massey.ac.nz for more information. More details to follow. \nPresenters include: \nProf Meihana Durie\, Head of School of Te Putahi-a-Toi \nDr Farah Palmer\, Associate Dean Māori\, Massey University\, Former Captain Black Ferns\, Chair Māori Rugby Board \nMegan Tunks\, CEO of Toi Tangata \nEruera Lee-Morgan\, Senior Policy Advisor\, Te Puni Kokiri\, Radio Host at Waatea\, passionate te reo Māori advocate \nPaora Te Hurihanganui\, Te Papa Tākaro Te Arawa \nDarrio Penetito-Hemara\, Toi Tangata \nKarla Matua\, He Oranga Poutama ki Tamaki\, Tag coach and ex rugby league player \nA limited number of scholarships covering the registration fee will be available for charitable trusts/voluntary organisations that do not receive government funding\, kaumatua and tertiary/school students. \nApply to Toi Tangata with your name\, and some information about you or your organisation/education institution and why you want to attend. \nParticipants are responsible for their own travel and accommodation. Numbers are limited given the venue size.
URL:https://hekai.co.nz/event/toi-ako-wananga-maori-solutions-to-increase-participation-in-physical-activity-and-sport/
LOCATION:Te Pūtahi-ā-Toi School of Māori Studies\, Bourke Road\, Palmerston North\, 4474\, New Zealand
ORGANIZER;CN="Te P%C5%ABtahi-%C4%81-Toi":MAILTO:TePutahi-a-Toi@massey.ac.nz
END:VEVENT
END:VCALENDAR