BEGIN:VCALENDAR
VERSION:2.0
PRODID:-//He Kai - ECPv6.15.20//NONSGML v1.0//EN
CALSCALE:GREGORIAN
METHOD:PUBLISH
X-ORIGINAL-URL:https://hekai.co.nz
X-WR-CALDESC:Events for He Kai
REFRESH-INTERVAL;VALUE=DURATION:PT1H
X-Robots-Tag:noindex
X-PUBLISHED-TTL:PT1H
BEGIN:VTIMEZONE
TZID:Pacific/Auckland
BEGIN:STANDARD
TZOFFSETFROM:+1300
TZOFFSETTO:+1200
TZNAME:NZST
DTSTART:20190406T140000
END:STANDARD
BEGIN:DAYLIGHT
TZOFFSETFROM:+1200
TZOFFSETTO:+1300
TZNAME:NZDT
DTSTART:20190928T140000
END:DAYLIGHT
BEGIN:STANDARD
TZOFFSETFROM:+1300
TZOFFSETTO:+1200
TZNAME:NZST
DTSTART:20200404T140000
END:STANDARD
BEGIN:DAYLIGHT
TZOFFSETFROM:+1200
TZOFFSETTO:+1300
TZNAME:NZDT
DTSTART:20200926T140000
END:DAYLIGHT
BEGIN:STANDARD
TZOFFSETFROM:+1300
TZOFFSETTO:+1200
TZNAME:NZST
DTSTART:20210403T140000
END:STANDARD
BEGIN:DAYLIGHT
TZOFFSETFROM:+1200
TZOFFSETTO:+1300
TZNAME:NZDT
DTSTART:20210925T140000
END:DAYLIGHT
END:VTIMEZONE
BEGIN:VEVENT
DTSTART;VALUE=DATE:20201205
DTEND;VALUE=DATE:20201207
DTSTAMP:20260421T185812
CREATED:20201110T002250Z
LAST-MODIFIED:20201110T002250Z
UID:20283-1607126400-1607299199@hekai.co.nz
SUMMARY:Māori Touch NZ Tournament
DESCRIPTION:Māori Touch NZ is delighted to announce the 21st Māori Touch Tournament\, which will take place on the 5 and 6 December 2020 at Rotorua’s International Stadium. Proudly hosted and organised by the Rotorua Touch Association\, the new venue has enabled the tournament to proceed for 2020. \nSo far over 50 teams have entered\, with strong Open Men’s and Open Mixed grade numbers. Entries will remain open until Sunday 15 November 2020. \nThe tournament will begin with a powhiri on Friday 5 December at 4pm with a special tribute to touch legend\, George Rogers\, who passed away in 2019. \n“George attended every Māori touch tournament from the inaugural event in 1997. He also played and coached Māori representative teams over the last twenty years\, but it was his commitment to Waitakere Māori Touch we will especially honour this year. We are very grateful to his partner\, Natalie\, his whanau\, and Waitakere Māori Touch to enable us all to acknowledge George\,” says Carol Ngwati\, Māori Touch NZ Chair. \nRotorua Lakes Council is pleased to welcome back Māori Touch participants to Rotorua and looks forward to hosting the up to 5\,000 people who attend the tournament over the weekend.  \nMāori Touch NZ is always warmly welcomed by Rotorua Lakes Council\, local Marae\, motels and all the volunteers who continue to support this important event on the Māori sport calendar.
URL:https://hekai.co.nz/event/maori-touch-nz-tournament/
LOCATION:Rotorua International Stadium\, Devon Street West\, Rotorua\, New Zealand
ORGANIZER;CN="M%C4%81ori Touch NZ":MAILTO:tournaments.rta@gmail.com
END:VEVENT
END:VCALENDAR