BEGIN:VCALENDAR
VERSION:2.0
PRODID:-//He Kai - ECPv6.15.20//NONSGML v1.0//EN
CALSCALE:GREGORIAN
METHOD:PUBLISH
X-ORIGINAL-URL:https://hekai.co.nz
X-WR-CALDESC:Events for He Kai
REFRESH-INTERVAL;VALUE=DURATION:PT1H
X-Robots-Tag:noindex
X-PUBLISHED-TTL:PT1H
BEGIN:VTIMEZONE
TZID:UTC
BEGIN:STANDARD
TZOFFSETFROM:+0000
TZOFFSETTO:+0000
TZNAME:UTC
DTSTART:20160101T000000
END:STANDARD
END:VTIMEZONE
BEGIN:VEVENT
DTSTART;VALUE=DATE:20171014
DTEND;VALUE=DATE:20171112
DTSTAMP:20260425T141010
CREATED:20171015T080901Z
LAST-MODIFIED:20171015T080901Z
UID:17441-1507939200-1510444799@hekai.co.nz
SUMMARY:Sustainable Whanau Challenge
DESCRIPTION:Are you looking for a way to make a difference? Need some inspiration to start making positive changes? The Sustainable Whanau Challenge is an online challenge that helps New Zealanders to make small changes in our everyday lives. \nIt is free and open to everyone and gives you the tools and inspiration to contribute to a healthy\, sustainable\, future – and have fun in the process. \nSign up to any of the challenges across Food\, Water\, Zero Waste\, Travel\, Energy\, Nature and Simply You. \n\nCheck out their website or FB page to learn more.
URL:https://hekai.co.nz/event/sustainable-whanau-challenge/
LOCATION:Online
END:VEVENT
BEGIN:VEVENT
DTSTART;TZID=UTC:20171101T100000
DTEND;TZID=UTC:20171101T170000
DTSTAMP:20260425T141010
CREATED:20170927T081641Z
LAST-MODIFIED:20170927T081641Z
UID:17408-1509530400-1509555600@hekai.co.nz
SUMMARY:Whānau Consultation Hui – Palmerston North
DESCRIPTION:Te Rau Matatini holding consultation for Māori whānau who have lived experience of caring for loved ones with mental illness.  Whānau are the silient workforce who take care of loved ones with mental illness and aim to find ways to give them (whānau) a voice.
URL:https://hekai.co.nz/event/whanau-consultation-hui-palmerston-north/
LOCATION:St Michael’s Anglican Church & Marae\, 70 Ellesmere Crescent\, Palmerston North\, Manawatu-Wanganui\, 4412\, New Zealand
END:VEVENT
BEGIN:VEVENT
DTSTART;TZID=UTC:20171115T090000
DTEND;TZID=UTC:20171115T160000
DTSTAMP:20260425T141010
CREATED:20171008T085800Z
LAST-MODIFIED:20171008T085905Z
UID:17423-1510736400-1510761600@hekai.co.nz
SUMMARY:Whakatinanatia te Huahuatau (Application of Metaphoric Knowledge to Physical Activity)
DESCRIPTION:Toi Tangata has been given an amazing opportunity to host a one day Atua Matua workshop an introductory level to the Atua Matua framework created by Dr Ihirangi Heke at He Waka Tapu in Christchurch. \nThis workshop will engage participants with the Atua Matua framework through environmental skill acquisition. We will share knowledge on Atua and Kaitiaki through mātauranga (knowledge)\, whakapapa (lineage)\, huahuatau (metaphoric) interpretations and the application of thes \ne as a health or physical activity output (whakapakari tinana). \nParticipants will gain a fundamental understanding of the Atua Matua approach and how it connects traditional Māori knowledge with health and physical activity becoming incidental outcomes. \nWe intend to ensure to you get the most out of your day! \nWHAT TO BRING \nA comfortable pair of trainers or running shoes.\nComfortable clothing to exercise in.\nEXTRA INFORMATION \nKai will be provided throughout the day. \nFor more information\, contact Crystal Pekepo at crystal@toitangata.co.nz
URL:https://hekai.co.nz/event/whakatinanatia-te-huahuatau-application-of-metaphoric-knowledge-to-physical-activity/
LOCATION:He Waka Tapu\, 161 Pages Road\, Christchurch\, New Zealand
END:VEVENT
BEGIN:VEVENT
DTSTART;VALUE=DATE:20171121
DTEND;VALUE=DATE:20171122
DTSTAMP:20260425T141010
CREATED:20170925T211624Z
LAST-MODIFIED:20171008T090026Z
UID:17373-1511222400-1511308799@hekai.co.nz
SUMMARY:He Pī Ka Rere Wānanga
DESCRIPTION:Based on traditional techniques used by our tūpuna\, He Pī Ka Rere is a kori and kai (movement and nutrition) approach to nurturing the development of under 5’s within their early learning environments.
URL:https://hekai.co.nz/event/he-pi-ka-rere-wananga/
LOCATION:Springvale Stadium\, London Street\, Whanganui\, New Zealand
END:VEVENT
BEGIN:VEVENT
DTSTART;VALUE=DATE:20171125
DTEND;VALUE=DATE:20171126
DTSTAMP:20260425T141010
CREATED:20171011T142623Z
LAST-MODIFIED:20171011T142623Z
UID:17435-1511568000-1511654399@hekai.co.nz
SUMMARY:TriMāori Festival
DESCRIPTION:The TriMāori Festival is coming up on the 25th November 2017 in Camebridge. \nThe Festival celebrates whānau hauora and well-being with events the whole whānau can enjoy including walks\, runs and triathlons! There are also kids activities\, kai stalls\, business and health stalls and provide entertainment such as music and dancing. \nRegister now and use the special code TM2017 ECODE for special Early Bird rates. \n\nFor more info check out the Tri Maori FB page. \nView poster here
URL:https://hekai.co.nz/event/trimaori-festival/
LOCATION:Lake Karapiro\, Camebridge\, New Zealand
END:VEVENT
END:VCALENDAR