BEGIN:VCALENDAR
VERSION:2.0
PRODID:-//He Kai - ECPv6.15.20//NONSGML v1.0//EN
CALSCALE:GREGORIAN
METHOD:PUBLISH
X-WR-CALNAME:He Kai
X-ORIGINAL-URL:https://hekai.co.nz
X-WR-CALDESC:Events for He Kai
REFRESH-INTERVAL;VALUE=DURATION:PT1H
X-Robots-Tag:noindex
X-PUBLISHED-TTL:PT1H
BEGIN:VTIMEZONE
TZID:Pacific/Auckland
BEGIN:STANDARD
TZOFFSETFROM:+1300
TZOFFSETTO:+1200
TZNAME:NZST
DTSTART:20190406T140000
END:STANDARD
BEGIN:DAYLIGHT
TZOFFSETFROM:+1200
TZOFFSETTO:+1300
TZNAME:NZDT
DTSTART:20190928T140000
END:DAYLIGHT
BEGIN:STANDARD
TZOFFSETFROM:+1300
TZOFFSETTO:+1200
TZNAME:NZST
DTSTART:20200404T140000
END:STANDARD
BEGIN:DAYLIGHT
TZOFFSETFROM:+1200
TZOFFSETTO:+1300
TZNAME:NZDT
DTSTART:20200926T140000
END:DAYLIGHT
BEGIN:STANDARD
TZOFFSETFROM:+1300
TZOFFSETTO:+1200
TZNAME:NZST
DTSTART:20210403T140000
END:STANDARD
BEGIN:DAYLIGHT
TZOFFSETFROM:+1200
TZOFFSETTO:+1300
TZNAME:NZDT
DTSTART:20210925T140000
END:DAYLIGHT
END:VTIMEZONE
BEGIN:VEVENT
DTSTART;TZID=Pacific/Auckland:20200205T100000
DTEND;TZID=Pacific/Auckland:20200205T110000
DTSTAMP:20260421T185626
CREATED:20191215T224831Z
LAST-MODIFIED:20191215T224831Z
UID:19712-1580896800-1580900400@hekai.co.nz
SUMMARY:Toi Ako Webinar: Cultural inclusion in NZ rugby
DESCRIPTION:Cultural inclusion in NZ rugby: Applying tikanga and mātauranga Māori in a sporting context. \nA case study of tikanga and mātauranga Māori applied in a sporting context: the Bay of Plenty Steamers. \nAs part of his PhD research\, Dr Hapeta undertook research on cultural inclusion and Māori culture in NZ Rugby. The research looked at the impact upon wellbeing for Māori and Non Māori players.\nThis webinar will discuss the work and case study of the Bay of Plenty (Steamers) Rugby team\, using examples such as mottos\, mascots and players researching maunga within the Bay of Plenty rohe.
URL:https://hekai.co.nz/event/toi-ako-webinar-cultural-inclusion-in-nz-rugby/
LOCATION:Online
END:VEVENT
BEGIN:VEVENT
DTSTART;TZID=Pacific/Auckland:20200225T140000
DTEND;TZID=Pacific/Auckland:20200227T170000
DTSTAMP:20260421T185626
CREATED:20191007T013509Z
LAST-MODIFIED:20191007T013522Z
UID:19594-1582639200-1582822800@hekai.co.nz
SUMMARY:Toi Tangata Hui ā Tau 2020 Pātaka Oranga
DESCRIPTION:Toi Tangata Hui ā Tau 2020\nPātaka Oranga\nStorehouse for wellbeing\nNau mai haere mai ki te Toi Tangata Hui ā Tau 2020. Join us in February as we kick off our Hui ā Tau\, an annual hui which helps provide focus and traction for the workforce on the positive kai\, wai and kori tinana outcomes for our communities. The conference has become the preeminent hui in Māori nutrition and physical activity and is launching into its sixth year. \nThe theme of the Toi Tangata Hui ā Tau 2020 is Pātaka Oranga. The concept of Pātaka Oranga\, ‘storehouse for wellbeing\,’ acts as a symbol of our physical and cultural wellbeing\, embracing all the tools we have at our disposal to reach our full potential\, including kai\, wai\, korikori tinana and many more. \nPātaka has many literal and metaphorical associations in te ao Māori. It refers\, literally\, to the elevated platform for the storage of food or taonga and becomes a strong symbol of our knowledge and of all things we characterise as our wealth\, embedding the values\, traditions\, social and spiritual wellbeing of te ao Māori. Ultimately\, it is a symbol of safe keeping. \nIn this respect\, the concept of Pātaka Oranga reflects our commitment to help tangata achieve their full potential with the mātauranga we gather and share. \nParticipants of the Toi Tangata Hui ā Tau 2020 can be seen as guardians of the pātaka\, with a role in replenishing and sustaining the wellbeing of whānau and all communities within Aotearoa.
URL:https://hekai.co.nz/event/toi-tangata-hui-a-tau-2020-pataka-oranga/
LOCATION:Napier Conference Centre\, 48 Marine Parade\, Bluff Hill\, Napier\, 4110\, New Zealand
END:VEVENT
END:VCALENDAR