BEGIN:VCALENDAR
VERSION:2.0
PRODID:-//He Kai - ECPv6.15.20//NONSGML v1.0//EN
CALSCALE:GREGORIAN
METHOD:PUBLISH
X-ORIGINAL-URL:https://hekai.co.nz
X-WR-CALDESC:Events for He Kai
REFRESH-INTERVAL;VALUE=DURATION:PT1H
X-Robots-Tag:noindex
X-PUBLISHED-TTL:PT1H
BEGIN:VTIMEZONE
TZID:Pacific/Auckland
BEGIN:STANDARD
TZOFFSETFROM:+1300
TZOFFSETTO:+1200
TZNAME:NZST
DTSTART:20190406T140000
END:STANDARD
BEGIN:DAYLIGHT
TZOFFSETFROM:+1200
TZOFFSETTO:+1300
TZNAME:NZDT
DTSTART:20190928T140000
END:DAYLIGHT
BEGIN:STANDARD
TZOFFSETFROM:+1300
TZOFFSETTO:+1200
TZNAME:NZST
DTSTART:20200404T140000
END:STANDARD
BEGIN:DAYLIGHT
TZOFFSETFROM:+1200
TZOFFSETTO:+1300
TZNAME:NZDT
DTSTART:20200926T140000
END:DAYLIGHT
BEGIN:STANDARD
TZOFFSETFROM:+1300
TZOFFSETTO:+1200
TZNAME:NZST
DTSTART:20210403T140000
END:STANDARD
BEGIN:DAYLIGHT
TZOFFSETFROM:+1200
TZOFFSETTO:+1300
TZNAME:NZDT
DTSTART:20210925T140000
END:DAYLIGHT
END:VTIMEZONE
BEGIN:VEVENT
DTSTART;TZID=Pacific/Auckland:20201111T100000
DTEND;TZID=Pacific/Auckland:20201111T110000
DTSTAMP:20260421T171719
CREATED:20201022T012326Z
LAST-MODIFIED:20201022T012326Z
UID:20258-1605088800-1605092400@hekai.co.nz
SUMMARY:Toi Ako Webinar: Kori tinana | Traditional Māori beliefs\, values and practices of physical activity
DESCRIPTION:Traditional Māori physical activity is distinguished by a Māori cultural definition understood through mātauranga\, with shared whakapapa to atua\, and practiced through tikanga. \nDespite a rich understanding and practice of Māori physical activity in a pre-European era\, the violent colonial experience in Aotearoa has resulted in a dominant view of physical activity that marginalises Māori perspectives and approaches. \nIn this kōrero Te Miri will discuss the findings of his Masters research that investigates the traditional Māori beliefs\, values and practices of physical activity and their relevance today. He will touch on the key themes that emerged through a kaupapa Māori analysis of interviews\, pūrakau and whakataukī. \nJoin us to hear about what characterises Māori physical activity; the ways in which mātauranga informs the beliefs\, values and practices of physical activity for Māori; and how these are relevant for Māori physical activity today.
URL:https://hekai.co.nz/event/toi-ako-webinar-kori-tinana-traditional-maori-beliefs-values-and-practices-of-physical-activity/
END:VEVENT
END:VCALENDAR